
BEGIN:VCALENDAR
VERSION:2.0
PRODID:-//Agro Västmanland - ECPv6.15.20//NONSGML v1.0//EN
CALSCALE:GREGORIAN
METHOD:PUBLISH
X-WR-CALNAME:Agro Västmanland
X-ORIGINAL-URL:https://agrovastmanland.se
X-WR-CALDESC:Händelser för Agro Västmanland
REFRESH-INTERVAL;VALUE=DURATION:PT1H
X-Robots-Tag:noindex
X-PUBLISHED-TTL:PT1H
BEGIN:VTIMEZONE
TZID:Europe/Stockholm
BEGIN:DAYLIGHT
TZOFFSETFROM:+0100
TZOFFSETTO:+0200
TZNAME:CEST
DTSTART:20240331T010000
END:DAYLIGHT
BEGIN:STANDARD
TZOFFSETFROM:+0200
TZOFFSETTO:+0100
TZNAME:CET
DTSTART:20241027T010000
END:STANDARD
BEGIN:DAYLIGHT
TZOFFSETFROM:+0100
TZOFFSETTO:+0200
TZNAME:CEST
DTSTART:20250330T010000
END:DAYLIGHT
BEGIN:STANDARD
TZOFFSETFROM:+0200
TZOFFSETTO:+0100
TZNAME:CET
DTSTART:20251026T010000
END:STANDARD
BEGIN:DAYLIGHT
TZOFFSETFROM:+0100
TZOFFSETTO:+0200
TZNAME:CEST
DTSTART:20260329T010000
END:DAYLIGHT
BEGIN:STANDARD
TZOFFSETFROM:+0200
TZOFFSETTO:+0100
TZNAME:CET
DTSTART:20261025T010000
END:STANDARD
END:VTIMEZONE
BEGIN:VEVENT
DTSTART;TZID=Europe/Stockholm:20251112T100000
DTEND;TZID=Europe/Stockholm:20251112T153000
DTSTAMP:20260420T002830
CREATED:20251009T093607Z
LAST-MODIFIED:20251009T184527Z
UID:12632-1762941600-1762961400@agrovastmanland.se
SUMMARY:Skogen som en stabil resurs – nu och i framtiden
DESCRIPTION:SEMINARIUM \nSkogen som en stabil resurs – nu och i framtiden \nDatum: 12 nov\nTid: kl. 10.00 – 15.30\nPlats: Brunnby Gård\, Västerås \nANMÄL \nVälkommen till ett seminarium inom projekt Variationsrikt skogsbruk – ett initiativ som syftar till att främja biologisk mångfald och skapa ett mer hållbart skogslandskap genom varierade brukningsmetoder. \nUnder dagen får du ta del av föreläsningar från experter inom skogsbruk och naturvård. Dagen avslutas med ett panelsamtal för att tillsammans reflektera om framtidens skogsbruk. \nPROGRAM\nMångfald och risk\, hur hänger det ihop?\nJohan Litsmark\, ekonomagronom f.d. naturskadespecialist och försäkringsspecialist inom skog \nSkogligt management för den bio-logiska mångfalden\nEllen Nystedt\, ordförande Skogens mångbruk. Hållbarhetsstrateg\, processledare\, utbildare\, verksamhetsutvecklare inom naturturism och naturvård \nBörja med målet\, varför äger jag skog? Vad har jag\, vad vill jag och vad kan jag?\nJohan Litsmark och Ellen Nystedt \nVästmanlands skogsprogram\nHur kan grön infrastruktur vara ett verktyg till ökad biologisk mångfald?\nMårten Gustafsson\, avdelningen för natur och miljö\, Länsstyrelsen i Västmanlands län \nPanelsamtal – Hur kan vi kombinera hög tillväxt och samtidigt värna mångfalden i skogsbruket?\nMårten Gustafsson\, Ellen Nystedt och Johan Litsmark \nAktiviteten är kostnadsfri. Vi bjuder på lunch o fika
URL:https://agrovastmanland.se/event/skogen-som-en-stabil-resurs-nu-och-i-framtiden/
LOCATION:Brunnby gård\, Brunnby 4\, Västerås\, 725 97
CATEGORIES:Seminarium,Skog
ATTACH;FMTTYPE=image/jpeg:https://agrovastmanland.se/wp-content/uploads/2025/10/20251112-Skog-som-resurs-16x9-EU.jpg
END:VEVENT
END:VCALENDAR