
BEGIN:VCALENDAR
VERSION:2.0
PRODID:-//Agro Västmanland - ECPv6.15.20//NONSGML v1.0//EN
CALSCALE:GREGORIAN
METHOD:PUBLISH
X-WR-CALNAME:Agro Västmanland
X-ORIGINAL-URL:https://agrovastmanland.se
X-WR-CALDESC:Händelser för Agro Västmanland
REFRESH-INTERVAL;VALUE=DURATION:PT1H
X-Robots-Tag:noindex
X-PUBLISHED-TTL:PT1H
BEGIN:VTIMEZONE
TZID:Europe/Stockholm
BEGIN:DAYLIGHT
TZOFFSETFROM:+0100
TZOFFSETTO:+0200
TZNAME:CEST
DTSTART:20240331T010000
END:DAYLIGHT
BEGIN:STANDARD
TZOFFSETFROM:+0200
TZOFFSETTO:+0100
TZNAME:CET
DTSTART:20241027T010000
END:STANDARD
BEGIN:DAYLIGHT
TZOFFSETFROM:+0100
TZOFFSETTO:+0200
TZNAME:CEST
DTSTART:20250330T010000
END:DAYLIGHT
BEGIN:STANDARD
TZOFFSETFROM:+0200
TZOFFSETTO:+0100
TZNAME:CET
DTSTART:20251026T010000
END:STANDARD
BEGIN:DAYLIGHT
TZOFFSETFROM:+0100
TZOFFSETTO:+0200
TZNAME:CEST
DTSTART:20260329T010000
END:DAYLIGHT
BEGIN:STANDARD
TZOFFSETFROM:+0200
TZOFFSETTO:+0100
TZNAME:CET
DTSTART:20261025T010000
END:STANDARD
END:VTIMEZONE
BEGIN:VEVENT
DTSTART;TZID=Europe/Stockholm:20251028T123000
DTEND;TZID=Europe/Stockholm:20251028T160000
DTSTAMP:20260419T205625
CREATED:20250917T185403Z
LAST-MODIFIED:20250917T185503Z
UID:12563-1761654600-1761667200@agrovastmanland.se
SUMMARY:Skogsexkursion: Skötsel av lövskog med fokus på björk
DESCRIPTION:Välkommen till en fältdag inom projektet Variationsrikt skogsbruk\, arrangeras tillsammans med AgroÖrebro. \nDatum: 28 oktober\nTid: kl. 12:30–16:30\nPlats: Averby Smedjan 443\, 697 93 Hjortkvarn \nANMÄL \nDenna gång fördjupar vi oss i skötsel av lövskog\, med särskilt fokus på björk. Vi besöker lövskogsmiljöer på Boo Egendoms marker\, där Ingemar Larsson\, driftsledare för skogen\, guidar oss genom en rundvandring med praktiska exempel och reflektioner från sitt arbete med lövskogsförvaltning. \nUnder exkursionen får vi ta del av konkreta erfarenheter från björkskogsskötsel\, men också inblickar i nyplanteringar av al\, ek och hybridasp. Tillsammans diskuterar vi bland annat: \n\nEkonomiska aspekter av lövskog\nSkillnader i skötsel mellan löv- och barrskog\nErfarenheter av att plantera lövskog i stället för gran\nValet av al\, ek och hybridasp\nSkadedjurspress i olika skogstyper\nBjörkskog\, naturligt uppkommen eller aktivt planterad?\n\nFöreläsare: Ingemar Karlsson\, skogsförvaltare. \nExkursionen pågår under en halvdag och består av en guidad rundvandring i fält. Fika ingår. Evenemanget är kostnadsfritt och en del av projektet Variationsrikt skogsbruk\, som drivs av AgroÖst.
URL:https://agrovastmanland.se/event/skogsexkursion-skotsel-av-lovskog-med-fokus-pa-bjork/
LOCATION:Averby Smedja\, Averby Smedjan 443\, Hjortkvarn\, 697 93
CATEGORIES:Fältvandring,Skog
END:VEVENT
END:VCALENDAR